BEGIN:VCALENDAR
VERSION:2.0
PRODID:-//North Coast Ohio Chapter - ECPv6.15.20//NONSGML v1.0//EN
CALSCALE:GREGORIAN
METHOD:PUBLISH
X-WR-CALNAME:North Coast Ohio Chapter
X-ORIGINAL-URL:https://northcoastohio-acbs.org
X-WR-CALDESC:Events for North Coast Ohio Chapter
REFRESH-INTERVAL;VALUE=DURATION:PT1H
X-Robots-Tag:noindex
X-PUBLISHED-TTL:PT1H
BEGIN:VTIMEZONE
TZID:America/New_York
BEGIN:DAYLIGHT
TZOFFSETFROM:-0500
TZOFFSETTO:-0400
TZNAME:EDT
DTSTART:20250309T070000
END:DAYLIGHT
BEGIN:STANDARD
TZOFFSETFROM:-0400
TZOFFSETTO:-0500
TZNAME:EST
DTSTART:20251102T060000
END:STANDARD
BEGIN:DAYLIGHT
TZOFFSETFROM:-0500
TZOFFSETTO:-0400
TZNAME:EDT
DTSTART:20260308T070000
END:DAYLIGHT
BEGIN:STANDARD
TZOFFSETFROM:-0400
TZOFFSETTO:-0500
TZNAME:EST
DTSTART:20261101T060000
END:STANDARD
BEGIN:DAYLIGHT
TZOFFSETFROM:-0500
TZOFFSETTO:-0400
TZNAME:EDT
DTSTART:20270314T070000
END:DAYLIGHT
BEGIN:STANDARD
TZOFFSETFROM:-0400
TZOFFSETTO:-0500
TZNAME:EST
DTSTART:20271107T060000
END:STANDARD
END:VTIMEZONE
BEGIN:VEVENT
DTSTART;TZID=America/New_York:20260621T090000
DTEND;TZID=America/New_York:20260621T150000
DTSTAMP:20260424T141625
CREATED:20251228T162920Z
LAST-MODIFIED:20251228T162920Z
UID:1264-1782032400-1782054000@northcoastohio-acbs.org
SUMMARY:Father's Day Car and Boat Show
DESCRIPTION:A Stan Hywet tradition! \nhttps://stanhywet.org/events/fathers-day-car-show
URL:https://northcoastohio-acbs.org/event/fathers-day-car-and-boat-show/
LOCATION:Stan Hywet Hall and Gardens\, 714 N. Portage Path\, Akron\, OH\, 44303\, United States
END:VEVENT
BEGIN:VEVENT
DTSTART;VALUE=DATE:20260626
DTEND;VALUE=DATE:20260628
DTSTAMP:20260424T141625
CREATED:20251129T213725Z
LAST-MODIFIED:20251129T213725Z
UID:1238-1782432000-1782604799@northcoastohio-acbs.org
SUMMARY:Lake Chautauqua Boat Show and Tour of Lawson Center
DESCRIPTION:Join a group from the club as we head to visit our brother club at Lake Chautauqua\, New York.  We will have members who will be entering their boats into the show and we will also have a chance to tour the amazing Lawson Center.
URL:https://northcoastohio-acbs.org/event/lake-chautauqua-boat-show-and-tour-of-lawson-center/
LOCATION:Bemus Point\, NY\, Bemus Point\, New York
END:VEVENT
END:VCALENDAR