BEGIN:VCALENDAR
VERSION:2.0
PRODID:-//North Coast Ohio Chapter - ECPv6.15.20//NONSGML v1.0//EN
CALSCALE:GREGORIAN
METHOD:PUBLISH
X-WR-CALNAME:North Coast Ohio Chapter
X-ORIGINAL-URL:https://northcoastohio-acbs.org
X-WR-CALDESC:Events for North Coast Ohio Chapter
REFRESH-INTERVAL;VALUE=DURATION:PT1H
X-Robots-Tag:noindex
X-PUBLISHED-TTL:PT1H
BEGIN:VTIMEZONE
TZID:America/New_York
BEGIN:DAYLIGHT
TZOFFSETFROM:-0500
TZOFFSETTO:-0400
TZNAME:EDT
DTSTART:20250309T070000
END:DAYLIGHT
BEGIN:STANDARD
TZOFFSETFROM:-0400
TZOFFSETTO:-0500
TZNAME:EST
DTSTART:20251102T060000
END:STANDARD
BEGIN:DAYLIGHT
TZOFFSETFROM:-0500
TZOFFSETTO:-0400
TZNAME:EDT
DTSTART:20260308T070000
END:DAYLIGHT
BEGIN:STANDARD
TZOFFSETFROM:-0400
TZOFFSETTO:-0500
TZNAME:EST
DTSTART:20261101T060000
END:STANDARD
BEGIN:DAYLIGHT
TZOFFSETFROM:-0500
TZOFFSETTO:-0400
TZNAME:EDT
DTSTART:20270314T070000
END:DAYLIGHT
BEGIN:STANDARD
TZOFFSETFROM:-0400
TZOFFSETTO:-0500
TZNAME:EST
DTSTART:20271107T060000
END:STANDARD
END:VTIMEZONE
BEGIN:VEVENT
DTSTART;TZID=America/New_York:20260413T173000
DTEND;TZID=America/New_York:20260413T203000
DTSTAMP:20260424T130208
CREATED:20260201T222818Z
LAST-MODIFIED:20260201T222818Z
UID:1290-1776101400-1776112200@northcoastohio-acbs.org
SUMMARY:Monthly Club Meeting
DESCRIPTION:Doors open at 5:30pm.  Meeting begins at 6pm.
URL:https://northcoastohio-acbs.org/event/monthly-club-meeting/
LOCATION:Canal Grille\, 2223 Locust St\, Canal Fulton\, Ohio\, 44614
END:VEVENT
END:VCALENDAR